BEGIN:VCALENDAR
VERSION:2.0
PRODID:icalendar-ruby
CALSCALE:GREGORIAN
METHOD:PUBLISH
BEGIN:VEVENT
DTSTAMP:20260423T173311Z
UID:5-495696@stedmundsmke.org
DTSTART:20260927T150000Z
DTEND:20260927T163000Z
CLASS:PUBLIC
CREATED:20260423T123309
DESCRIPTION:\nJoin us for our weekly Sunday worship service!\nWe meet at 10
 :00 a.m. for Sunday worship in the Word and Holy Eucharist. We meet at the
  Historic Pritzlaff Building @ 313 North Plankinton Avenue\, Suite #207 (C
 orner Conference Room)\; follow the signs . . .\n
LAST-MODIFIED:20260423T123309
LOCATION:313 North Plankinton Avenue\, Milwaukee\, Wisconsin 53203
SUMMARY:Holy Eucharist
URL;VALUE=URI:https://www.stedmundsmke.org/events/holy-eucharist/2026-09-27
END:VEVENT
END:VCALENDAR
