BEGIN:VCALENDAR
VERSION:2.0
PRODID:icalendar-ruby
CALSCALE:GREGORIAN
METHOD:PUBLISH
BEGIN:VEVENT
DTSTAMP:20260423T233340Z
UID:5-496381@stedmundsmke.org
DTSTART:20261025T150000Z
DTEND:20261025T163000Z
CLASS:PUBLIC
CREATED:20260423T182251
DESCRIPTION:\nJoin us for our weekly Sunday worship service!\nWe meet at 10
 :00 a.m. for Sunday worship in the Word and Holy Eucharist. We meet at the
  Historic Pritzlaff Building @ 313 North Plankinton Avenue\, Suite #207 (C
 orner Conference Room)\; follow the signs . . .\n
LAST-MODIFIED:20260423T182251
LOCATION:313 North Plankinton Avenue\, Milwaukee\, Wisconsin 53203
SUMMARY:Holy Eucharist
URL;VALUE=URI:https://www.stedmundsmke.org/events/holy-eucharist/2026-10-25
END:VEVENT
END:VCALENDAR
