BEGIN:VCALENDAR
VERSION:2.0
PRODID:icalendar-ruby
CALSCALE:GREGORIAN
METHOD:PUBLISH
BEGIN:VEVENT
DTSTAMP:20260422T223351Z
UID:9-494180@stedmundsmke.org
DTSTART:20260923T233000Z
DTEND:20260924T013000Z
CLASS:PUBLIC
CREATED:20260422T152851
DESCRIPTION:Join us for Pub Theology — good conversation\, great company\
 , and a cold drink as we explore faith\, life\, and big questions in a rel
 axed setting. Everyone’s welcome!
LAST-MODIFIED:20260422T152851
LOCATION:Oscar's Pub and Grill 1712 W. Pierce St. Milwaukee\, WI  
SUMMARY:Pub Theology
URL;VALUE=URI:https://www.stedmundsmke.org/events/pub-theology/2026-09-23
ATTACH;FILENAME=ChatGPT-Image-Nov-4%2C-2025%2C-11_05_28-AM.png;FMTTYPE=imag
 e/png:https://dq5pwpg1q8ru0.cloudfront.net/2025/11/04/17/10/00/6810d1d6-08
 4f-4c78-9ae6-861c8048c3fd/ChatGPT-Image-Nov-4%252C-2025%252C-11_05_28-AM.p
 ng
END:VEVENT
END:VCALENDAR
